BEGIN:VCALENDAR
VERSION:2.0
PRODID:-//Leicestershire Chorale - ECPv6.15.17.1//NONSGML v1.0//EN
CALSCALE:GREGORIAN
METHOD:PUBLISH
X-WR-CALNAME:Leicestershire Chorale
X-ORIGINAL-URL:https://leicestershirechorale.org.uk
X-WR-CALDESC:Events for Leicestershire Chorale
REFRESH-INTERVAL;VALUE=DURATION:PT1H
X-Robots-Tag:noindex
X-PUBLISHED-TTL:PT1H
BEGIN:VTIMEZONE
TZID:Europe/London
BEGIN:DAYLIGHT
TZOFFSETFROM:+0000
TZOFFSETTO:+0100
TZNAME:BST
DTSTART:20220327T010000
END:DAYLIGHT
BEGIN:STANDARD
TZOFFSETFROM:+0100
TZOFFSETTO:+0000
TZNAME:GMT
DTSTART:20221030T010000
END:STANDARD
BEGIN:DAYLIGHT
TZOFFSETFROM:+0000
TZOFFSETTO:+0100
TZNAME:BST
DTSTART:20230326T010000
END:DAYLIGHT
BEGIN:STANDARD
TZOFFSETFROM:+0100
TZOFFSETTO:+0000
TZNAME:GMT
DTSTART:20231029T010000
END:STANDARD
BEGIN:DAYLIGHT
TZOFFSETFROM:+0000
TZOFFSETTO:+0100
TZNAME:BST
DTSTART:20240331T010000
END:DAYLIGHT
BEGIN:STANDARD
TZOFFSETFROM:+0100
TZOFFSETTO:+0000
TZNAME:GMT
DTSTART:20241027T010000
END:STANDARD
END:VTIMEZONE
BEGIN:VEVENT
DTSTART;TZID=Europe/London:20231209T193000
DTEND;TZID=Europe/London:20231209T213000
DTSTAMP:20260421T055847
CREATED:20230709T105908Z
LAST-MODIFIED:20230919T143810Z
UID:3720-1702150200-1702157400@leicestershirechorale.org.uk
SUMMARY:Rejoice\, rejoice! A Sequence of Elizabethan Carols\, Motets and Music for Viols with Fretwork
DESCRIPTION:We are honoured and delighted to be invited to perform with world-leading consort of viols Fretwork\, especially in such a key year for them as they commemorate the death of English Tudor composers William Byrd and Thomas Weelkes. Chorale and Fretwork bring to you a programme of carols\, choral motets\, and music for viols all from the Elizabethan period\, including music by Byrd\, Weelkes\, Orlando Gibbons\, Thomas Tomkins\, John Amner and Anthony Holborne. Come and hear this beautiful music performed as originally intended on period instruments and at the original pitch. A must for both early music enthusiasts and those merely curious about England’s great musical history. \nTickets: £19\, full price; £15 Friends of Leicestershire Chorale; £10 NUS/U19; £5 U13. \nTickets from tickets@leicestershirechorale.org.uk
URL:https://leicestershirechorale.org.uk/concert/from-virgins-womb-rejoice-rejoice-a-sequence-of-elizabethan-carols-motets-and-music-for-viols/
LOCATION:St Andrews Jarrom Street\, Leicester\, St Andrews\, 52 Jarrom Street\, Leicester\, Leicester\, LE2 7DH\, United Kingdom
END:VEVENT
END:VCALENDAR