BEGIN:VCALENDAR
VERSION:2.0
PRODID:-//Leicestershire Chorale - ECPv6.15.17.1//NONSGML v1.0//EN
CALSCALE:GREGORIAN
METHOD:PUBLISH
X-WR-CALNAME:Leicestershire Chorale
X-ORIGINAL-URL:https://leicestershirechorale.org.uk
X-WR-CALDESC:Events for Leicestershire Chorale
REFRESH-INTERVAL;VALUE=DURATION:PT1H
X-Robots-Tag:noindex
X-PUBLISHED-TTL:PT1H
BEGIN:VTIMEZONE
TZID:Europe/London
BEGIN:DAYLIGHT
TZOFFSETFROM:+0000
TZOFFSETTO:+0100
TZNAME:BST
DTSTART:20230326T010000
END:DAYLIGHT
BEGIN:STANDARD
TZOFFSETFROM:+0100
TZOFFSETTO:+0000
TZNAME:GMT
DTSTART:20231029T010000
END:STANDARD
BEGIN:DAYLIGHT
TZOFFSETFROM:+0000
TZOFFSETTO:+0100
TZNAME:BST
DTSTART:20240331T010000
END:DAYLIGHT
BEGIN:STANDARD
TZOFFSETFROM:+0100
TZOFFSETTO:+0000
TZNAME:GMT
DTSTART:20241027T010000
END:STANDARD
BEGIN:DAYLIGHT
TZOFFSETFROM:+0000
TZOFFSETTO:+0100
TZNAME:BST
DTSTART:20250330T010000
END:DAYLIGHT
BEGIN:STANDARD
TZOFFSETFROM:+0100
TZOFFSETTO:+0000
TZNAME:GMT
DTSTART:20251026T010000
END:STANDARD
END:VTIMEZONE
BEGIN:VEVENT
DTSTART;TZID=Europe/London:20240323T193000
DTEND;TZID=Europe/London:20240323T213000
DTSTAMP:20260421T010320
CREATED:20230709T111651Z
LAST-MODIFIED:20240108T160202Z
UID:3731-1711222200-1711229400@leicestershirechorale.org.uk
SUMMARY:The Full\, Final Sacrifice; Epic Choral Anthems with Organ
DESCRIPTION:We are delighted to join forces once again with Leicester Cathedral choir\, an organisation with whom we have strong links through several shared singing members\, choral scholars and the Director of Music Dr Christopher Ouvry-Johns\, himself a key bass within our ranks! This shared programme will explore some gloriously epic pieces from the Anglican repertory\, including For Lo! I raise up by CV Stanford\, The Twelve by William Walton and Gerald Finzi’s ever popular Lo\, the full\, final sacrifice. Cathedral organist David Cowen\, formerly Chorale’s long-serving accompanist and his successor in the role Nick Scott-Burt will add their own flavour and excitement to proceedings with organ solos and duets. \nTickets: £15 Full price £12 Chorale Friends £10 NUS/U19 £5 U13
URL:https://leicestershirechorale.org.uk/concert/the-full-final-sacrifice-epic-choral-anthems-with-organ/
LOCATION:Leicester Cathedral\, 2 Peacock Lane\, Leicester\, Leicestershire\, LE1 5FQ\, United Kingdom
END:VEVENT
END:VCALENDAR