BEGIN:VCALENDAR
VERSION:2.0
PRODID:-//Leicestershire Chorale - ECPv6.15.17.1//NONSGML v1.0//EN
CALSCALE:GREGORIAN
METHOD:PUBLISH
X-ORIGINAL-URL:https://leicestershirechorale.org.uk
X-WR-CALDESC:Events for Leicestershire Chorale
REFRESH-INTERVAL;VALUE=DURATION:PT1H
X-Robots-Tag:noindex
X-PUBLISHED-TTL:PT1H
BEGIN:VTIMEZONE
TZID:Europe/London
BEGIN:DAYLIGHT
TZOFFSETFROM:+0000
TZOFFSETTO:+0100
TZNAME:BST
DTSTART:20230326T010000
END:DAYLIGHT
BEGIN:STANDARD
TZOFFSETFROM:+0100
TZOFFSETTO:+0000
TZNAME:GMT
DTSTART:20231029T010000
END:STANDARD
BEGIN:DAYLIGHT
TZOFFSETFROM:+0000
TZOFFSETTO:+0100
TZNAME:BST
DTSTART:20240331T010000
END:DAYLIGHT
BEGIN:STANDARD
TZOFFSETFROM:+0100
TZOFFSETTO:+0000
TZNAME:GMT
DTSTART:20241027T010000
END:STANDARD
BEGIN:DAYLIGHT
TZOFFSETFROM:+0000
TZOFFSETTO:+0100
TZNAME:BST
DTSTART:20250330T010000
END:DAYLIGHT
BEGIN:STANDARD
TZOFFSETFROM:+0100
TZOFFSETTO:+0000
TZNAME:GMT
DTSTART:20251026T010000
END:STANDARD
END:VTIMEZONE
BEGIN:VEVENT
DTSTART;TZID=Europe/London:20240622T193000
DTEND;TZID=Europe/London:20240622T213000
DTSTAMP:20260419T013052
CREATED:20240102T175605Z
LAST-MODIFIED:20240428T200512Z
UID:3809-1719084600-1719091800@leicestershirechorale.org.uk
SUMMARY:Un soir de neige au soleil! Part songs for choral voice with solo melodies and instrumental interludes
DESCRIPTION:This concert is to be held in conjunction with senior music scholars from the Loughborough Schools Foundation\, and with Nick Scott-Burt piano. \nHaving enjoyed the serious\, sacred side of Francis Poulenc’s choral writing last April in performing his Quatres motets pour un temps de penitence\, we now present an equally vivid and thoughtful secular perspective in the miniature choral cantata Un soir de neige. This was another collaboration with the pioneering surrealist poet Paul Eluard\, with whom Poulenc had composed his masterpiece Figure humaine during the dark days of Nazi occupation. These four lesser-known vignettes display all Poulenc’s mastery of choral texture and unique harmony found in more significant works. Alongside we perform a set of six chansons by Paul Hindemith\, settings of the poet Rainer Maria Rilke and choral songs by Venezuelan-born French composer Reynaldo Hahn. We are delighted to be joined in performance by talented senior musicians from Loughborough Schools Foundation\, who will deliver solo instrumental and vocal interludes to our choral programme. \nTickets are: £15 Full price £12 Chorale Friends £10 NUS/U19 £5 U13 from tickets@leicestershirechorale.org.uk
URL:https://leicestershirechorale.org.uk/concert/un-soir-de-neige-au-soleil-part-songs-for-choral-voice-with-solo-melodies-and-instrumental-inerludes/
LOCATION:Loughborough Amherst Chapel\, Gray Street\, Loughborough\, LE11 2DZ\, United Kingdom
END:VEVENT
END:VCALENDAR