BEGIN:VCALENDAR
VERSION:2.0
PRODID:-//Leicestershire Chorale - ECPv6.15.17.1//NONSGML v1.0//EN
CALSCALE:GREGORIAN
METHOD:PUBLISH
X-ORIGINAL-URL:https://leicestershirechorale.org.uk
X-WR-CALDESC:Events for Leicestershire Chorale
REFRESH-INTERVAL;VALUE=DURATION:PT1H
X-Robots-Tag:noindex
X-PUBLISHED-TTL:PT1H
BEGIN:VTIMEZONE
TZID:Europe/London
BEGIN:DAYLIGHT
TZOFFSETFROM:+0000
TZOFFSETTO:+0100
TZNAME:BST
DTSTART:20230326T010000
END:DAYLIGHT
BEGIN:STANDARD
TZOFFSETFROM:+0100
TZOFFSETTO:+0000
TZNAME:GMT
DTSTART:20231029T010000
END:STANDARD
BEGIN:DAYLIGHT
TZOFFSETFROM:+0000
TZOFFSETTO:+0100
TZNAME:BST
DTSTART:20240331T010000
END:DAYLIGHT
BEGIN:STANDARD
TZOFFSETFROM:+0100
TZOFFSETTO:+0000
TZNAME:GMT
DTSTART:20241027T010000
END:STANDARD
BEGIN:DAYLIGHT
TZOFFSETFROM:+0000
TZOFFSETTO:+0100
TZNAME:BST
DTSTART:20250330T010000
END:DAYLIGHT
BEGIN:STANDARD
TZOFFSETFROM:+0100
TZOFFSETTO:+0000
TZNAME:GMT
DTSTART:20251026T010000
END:STANDARD
END:VTIMEZONE
BEGIN:VEVENT
DTSTART;TZID=Europe/London:20240203T193000
DTEND;TZID=Europe/London:20240203T213000
DTSTAMP:20260415T002513
CREATED:20230709T110527Z
LAST-MODIFIED:20231230T140747Z
UID:3724-1706988600-1706995800@leicestershirechorale.org.uk
SUMMARY:The Light Invisible Within - Choral Music and Solo Song for Epiphany and Candlemas
DESCRIPTION:A programme of choral music\, organ interludes and solo song with a flavour of the Epiphany and Candlemas to help bring in the New Year; with Nick Scott-Burt organ. \nFollowing two successful events last season\, we’re very happy to return to the ancient and inspiring spaces within the beautiful\, historic church of St Mary de Castro in Leicester City Centre. This time we present a spiritual sequence of choral music\, solo song and organ interlude on a general theme of guiding light and touching on both the Epiphany and Candlemas. This concert will include music by Lassus\, Eccard\, Byrd\, Tallis\, Mendelssohn\, Warlock\, Burgon and John Rutter’s atypical and strikingly wonderful Hymn to the Creator of Light. \nTickets: Full £15\, Chorale Friends £12\, NUS/U19 £10\, U13 £5 \nfrom tickets@leicestershirechorale.org.uk
URL:https://leicestershirechorale.org.uk/concert/the-light-invisible-within-choral-music-and-solo-song-for-epiphany-and-candlemas/
LOCATION:St Mary de Castro\, Castle Street\, Leicester\, LE1 5WN\, United Kingdom
END:VEVENT
END:VCALENDAR