BEGIN:VCALENDAR
VERSION:2.0
PRODID:-//Leicestershire Chorale - ECPv6.15.17.1//NONSGML v1.0//EN
CALSCALE:GREGORIAN
METHOD:PUBLISH
X-ORIGINAL-URL:https://leicestershirechorale.org.uk
X-WR-CALDESC:Events for Leicestershire Chorale
REFRESH-INTERVAL;VALUE=DURATION:PT1H
X-Robots-Tag:noindex
X-PUBLISHED-TTL:PT1H
BEGIN:VTIMEZONE
TZID:Europe/London
BEGIN:DAYLIGHT
TZOFFSETFROM:+0000
TZOFFSETTO:+0100
TZNAME:BST
DTSTART:20240331T010000
END:DAYLIGHT
BEGIN:STANDARD
TZOFFSETFROM:+0100
TZOFFSETTO:+0000
TZNAME:GMT
DTSTART:20241027T010000
END:STANDARD
BEGIN:DAYLIGHT
TZOFFSETFROM:+0000
TZOFFSETTO:+0100
TZNAME:BST
DTSTART:20250330T010000
END:DAYLIGHT
BEGIN:STANDARD
TZOFFSETFROM:+0100
TZOFFSETTO:+0000
TZNAME:GMT
DTSTART:20251026T010000
END:STANDARD
BEGIN:DAYLIGHT
TZOFFSETFROM:+0000
TZOFFSETTO:+0100
TZNAME:BST
DTSTART:20260329T010000
END:DAYLIGHT
BEGIN:STANDARD
TZOFFSETFROM:+0100
TZOFFSETTO:+0000
TZNAME:GMT
DTSTART:20261025T010000
END:STANDARD
END:VTIMEZONE
BEGIN:VEVENT
DTSTART;TZID=Europe/London:20250705T193000
DTEND;TZID=Europe/London:20250705T210000
DTSTAMP:20260420T203605
CREATED:20240804T144623Z
LAST-MODIFIED:20240804T144623Z
UID:3911-1751743800-1751749200@leicestershirechorale.org.uk
SUMMARY:The Spirit of Truth - In celebration of 20 years of Leicestershire Chorale Choral Scholarships Scheme
DESCRIPTION:Choral Metamorphoses of existing works by Tallis\, Byrd\, Bach\, Stanford\, Vaughan Williams and Wesley\, adapted and rearranged by modern composers Judith Bingham\, Roderick Williams\, Knut Nystedt\, Bob Chilcott and William Petter \nTom Williams Conductor \nNick Scott-Burt Piano and Organ \n St Andrew’s Jarrom St\, Leicester \nAfter a chance conversation in August 2005 with a Leicester University student on an RSCM course in Salisbury\, the name of Adam Piplica was suggested as someone who could become the first of now well over a hundred young singers\, to benefit from scholarship to sing with Chorale\, whilst still at school or university. Many have gone on to university scholarships or to music conservatoire and some have even built successful singing careers beyond that. Others have kept singing as a strong suit and important part of their adult lives\, some even coming back to re-join Chorale as members later on. To celebrate this momentous anniversary\, we aim to invite back as many former scholars as possible to join together in a ‘Scholars Choir’ who will sing with and independently of our existing Chorale. We will explore a series of choral re-imaginings of classics from the repertoire such as Thomas Tallis’s If ye love me\, William Byrd’s Ave verum and JS Bach’s chorale Komm süsser Tod\, reworked by Judith Bingham\, Roderick Williams and Knut Nystedt respectively. This programme will provide the perfect opportunity both to hear our former scholars singing in their present glory\, but also to have them sing amongst us once again. \nTickets £15\, Friends £12\, under 19 £10\, under 13 £5\nTickets can be purchased via Ticketsource at The Spirit of Truth at St Andrews Church event tickets from TicketSource \n 
URL:https://leicestershirechorale.org.uk/concert/the-spirit-of-truth-in-celebration-of-20-years-of-leicestershire-chorale-choral-scholarships-scheme/
LOCATION:St Andrew’s Church\, 53 Jarrom Street\, Leicester\, Leicestershire\, LE2 7DH\, United Kingdom
END:VEVENT
END:VCALENDAR