BEGIN:VCALENDAR
VERSION:2.0
PRODID:-//Leicestershire Chorale - ECPv6.15.17.1//NONSGML v1.0//EN
CALSCALE:GREGORIAN
METHOD:PUBLISH
X-ORIGINAL-URL:https://leicestershirechorale.org.uk
X-WR-CALDESC:Events for Leicestershire Chorale
REFRESH-INTERVAL;VALUE=DURATION:PT1H
X-Robots-Tag:noindex
X-PUBLISHED-TTL:PT1H
BEGIN:VTIMEZONE
TZID:Europe/London
BEGIN:DAYLIGHT
TZOFFSETFROM:+0000
TZOFFSETTO:+0100
TZNAME:BST
DTSTART:20240331T010000
END:DAYLIGHT
BEGIN:STANDARD
TZOFFSETFROM:+0100
TZOFFSETTO:+0000
TZNAME:GMT
DTSTART:20241027T010000
END:STANDARD
BEGIN:DAYLIGHT
TZOFFSETFROM:+0000
TZOFFSETTO:+0100
TZNAME:BST
DTSTART:20250330T010000
END:DAYLIGHT
BEGIN:STANDARD
TZOFFSETFROM:+0100
TZOFFSETTO:+0000
TZNAME:GMT
DTSTART:20251026T010000
END:STANDARD
BEGIN:DAYLIGHT
TZOFFSETFROM:+0000
TZOFFSETTO:+0100
TZNAME:BST
DTSTART:20260329T010000
END:DAYLIGHT
BEGIN:STANDARD
TZOFFSETFROM:+0100
TZOFFSETTO:+0000
TZNAME:GMT
DTSTART:20261025T010000
END:STANDARD
END:VTIMEZONE
BEGIN:VEVENT
DTSTART;TZID=Europe/London:20251213T193000
DTEND;TZID=Europe/London:20251213T210000
DTSTAMP:20260414T072254
CREATED:20250609T195509Z
LAST-MODIFIED:20250609T195509Z
UID:4205-1765654200-1765659600@leicestershirechorale.org.uk
SUMMARY:Illuminare Jerusalem
DESCRIPTION:Choral Music for Advent and Christmas written by women or those writing for upper voices\, including music by Judith Weir\, Celia McDowall\, Becky McGlade and Kerry Andrew \nTom Williams Director \nNick Scott-Burt Organ \nA fresh and thrilling take on the Advent and Christmas story from a variety of composers\, many writing in the 21st Century\, with less recent contributions from Hildegard of Bingen and Italian Baroque composer Chiara Margarita Cozzolani. These carols include two written by former and current Masters of the Queen’s/King’s Music and several performed in high profile BBC broadcasts and recorded on award-winning album releases. Join us for this new and exciting venture. \nSat 13th December at St Mary de Castro\, Castle St\, Leicester\, LE1 5WN \nTickets: £15 Full £12 Friends £10 U19 £5 U13 on the door and from Ticketsource
URL:https://leicestershirechorale.org.uk/concert/illuminare-jerusalem/
LOCATION:St Mary de Castro\, Castle Street\, Leicester\, LE1 5WN\, United Kingdom
ATTACH;FMTTYPE=image/jpeg:https://leicestershirechorale.org.uk/wp-content/uploads/2.-Women-e1749497700894.jpeg
END:VEVENT
END:VCALENDAR